BEGIN:VCALENDAR
VERSION:2.0
PRODID:-//Barnwell Village Hall - ECPv4.9.12//NONSGML v1.0//EN
CALSCALE:GREGORIAN
METHOD:PUBLISH
X-WR-CALNAME:Barnwell Village Hall
X-ORIGINAL-URL:http://www.barnwellvillagehall.co.uk
X-WR-CALDESC:Events for Barnwell Village Hall
BEGIN:VTIMEZONE
TZID:Europe/London
BEGIN:DAYLIGHT
TZOFFSETFROM:+0000
TZOFFSETTO:+0100
TZNAME:BST
DTSTART:20190331T010000
END:DAYLIGHT
BEGIN:STANDARD
TZOFFSETFROM:+0100
TZOFFSETTO:+0000
TZNAME:GMT
DTSTART:20191027T010000
END:STANDARD
END:VTIMEZONE
BEGIN:VEVENT
DTSTART;TZID=Europe/London:20191207T190000
DTEND;TZID=Europe/London:20191207T190000
DTSTAMP:20260425T163736
CREATED:20191023T105823Z
LAST-MODIFIED:20191023T105823Z
UID:444-1575745200-1575745200@www.barnwellvillagehall.co.uk
SUMMARY:Wellingborough Gospel Choir
DESCRIPTION:Tickets available now for a return visit from the fantastic Wellingborough Gospel Choir – they raised the roof last year and should have the church rocking again this Christmas! \nSaturday 7th December : Bar and doors open at 7pm. Tickets available online at www.ticketsource.co.uk/barnwell \n
URL:http://www.barnwellvillagehall.co.uk/event/wellingborough-gospel-choir/
LOCATION:Barnwell Village Hall\, PE85QD
END:VEVENT
END:VCALENDAR